BEGIN:VCALENDAR
PRODID:-//eluceo/ical//2.0/EN
VERSION:2.0
CALSCALE:GREGORIAN
BEGIN:VEVENT
UID:event-1201
DTSTAMP:20260423T184631Z
SUMMARY:Sjaarsen to Delft Borrel
DESCRIPTION:Kom gezellig een drankje drinken! Bestel hier je pizza!
DTSTART:20251112T160000Z
DTEND:20251112T200900Z
END:VEVENT
BEGIN:VTIMEZONE
TZID:UTC
BEGIN:STANDARD
DTSTART:20251112T160000
TZNAME:UTC
TZOFFSETTO:+0000
TZOFFSETFROM:+0000
END:STANDARD
END:VTIMEZONE
END:VCALENDAR
