BEGIN:VCALENDAR
PRODID:-//eluceo/ical//2.0/EN
VERSION:2.0
CALSCALE:GREGORIAN
BEGIN:VEVENT
UID:event-1205
DTSTAMP:20260423T185208Z
SUMMARY:Borrel in Bar het Lab - Sympocie thema bekendmaking
DESCRIPTION:Kom gezellig een drankje drinken!
DTSTART:20251210T160000Z
DTEND:20251210T183000Z
END:VEVENT
BEGIN:VTIMEZONE
TZID:UTC
BEGIN:STANDARD
DTSTART:20251210T160000
TZNAME:UTC
TZOFFSETTO:+0000
TZOFFSETFROM:+0000
END:STANDARD
END:VTIMEZONE
END:VCALENDAR
