BEGIN:VCALENDAR
PRODID:-//eluceo/ical//2.0/EN
VERSION:2.0
CALSCALE:GREGORIAN
BEGIN:VEVENT
UID:event-1290
DTSTAMP:20260423T185714Z
SUMMARY:Lunchworkshop prestatiedruk
DESCRIPTION:
DTSTART:20251125T113000Z
DTEND:20251125T123000Z
LOCATION:B2.100
END:VEVENT
BEGIN:VTIMEZONE
TZID:UTC
BEGIN:STANDARD
DTSTART:20251125T113000
TZNAME:UTC
TZOFFSETTO:+0000
TZOFFSETFROM:+0000
END:STANDARD
END:VTIMEZONE
END:VCALENDAR
