BEGIN:VCALENDAR
PRODID:-//eluceo/ical//2.0/EN
VERSION:2.0
CALSCALE:GREGORIAN
BEGIN:VEVENT
UID:event-1296
DTSTAMP:20260423T182329Z
SUMMARY:Lunchlezing Johnson & Johnson
DESCRIPTION:
DTSTART:20260113T120000Z
DTEND:20260113T130000Z
LOCATION:FWN- Leiden
END:VEVENT
BEGIN:VTIMEZONE
TZID:UTC
BEGIN:STANDARD
DTSTART:20260113T120000
TZNAME:UTC
TZOFFSETTO:+0000
TZOFFSETFROM:+0000
END:STANDARD
END:VTIMEZONE
END:VCALENDAR
