BEGIN:VCALENDAR
PRODID:-//eluceo/ical//2.0/EN
VERSION:2.0
CALSCALE:GREGORIAN
BEGIN:VEVENT
UID:event-1302
DTSTAMP:20260423T182042Z
SUMMARY:Study Day
DESCRIPTION:Order dinner for only one euro via https://simplymeals.nl/r/3SP
 5WMhDJYtV
DTSTART:20260116T080000Z
DTEND:20260116T160000Z
END:VEVENT
BEGIN:VTIMEZONE
TZID:UTC
BEGIN:STANDARD
DTSTART:20260116T080000
TZNAME:UTC
TZOFFSETTO:+0000
TZOFFSETFROM:+0000
END:STANDARD
END:VTIMEZONE
END:VCALENDAR
