BEGIN:VCALENDAR
PRODID:-//eluceo/ical//2.0/EN
VERSION:2.0
CALSCALE:GREGORIAN
BEGIN:VEVENT
UID:event-1303
DTSTAMP:20260423T182543Z
SUMMARY:Gupta Case Evening
DESCRIPTION:
DTSTART:20260212T163000Z
DTEND:20260212T190000Z
LOCATION:FWN - Leiden
END:VEVENT
BEGIN:VTIMEZONE
TZID:UTC
BEGIN:STANDARD
DTSTART:20260212T163000
TZNAME:UTC
TZOFFSETTO:+0000
TZOFFSETFROM:+0000
END:STANDARD
END:VTIMEZONE
END:VCALENDAR
